Workbook

Sheet 入力シート
D2: 入力項目 ↓
B3: ■申請書
C4: 申請年度 | D4: 令和9
C5: 申請日 | D5: 46355
C6: 地区名 | D6: 〇〇〇
C7: 会長名 | D7: ●● ●●●
C8: 担当者 | D8: ■■ ■■■
C9: 連絡先 | D9: ０９４０ - ３６ -

Sheet 申請書鑑
K1: =入力シート!D5 -> 46355
B2: 宗像市長 宛
I3: 名称 | J3: =入力シート!D6&"地区コミュニティ運営協議会" -> 〇〇〇地区コミュニティ運営協議会
I4: 会長名 | J4: =入力シート!D7 -> ●● ●●●
I5: 担当者 | J5: =入力シート!D8 -> ■■ ■■■
I6: 連絡先 | J6: =入力シート!D9 -> ０９４０ - ３６ -
B10: =入力シート!D4&"年度 宗像市まちづくり交付金交付（提案型）申請書" -> 令和9年度 宗像市まちづくり交付金交付（提案型）申請書
C14: 宗像市まちづくり交付金（提案型事業）に関する要領第4条の規定に基づき、 下記のとおり申請します。
G18: 記
B19: １．協議会が目指す姿や抱える課題、現状等
B31: ２．交付金の申請総額
D33: =SUM(J41:K50) -> 0
K35: 円
B38: ３．申請内容の内訳
C40: No | D40: 事業名 | J40: 申請額(円）
C41: 1 | D41: =申請シート①!E7 -> 0 | J41: =申請シート①!K62 -> 0
C42: 2 | D42: =申請シート②!E7 -> 0 | J42: =申請シート②!K62 -> 0
C43: 3
C44: 4
C45: 5
C46: 6
C47: 7
C48: 8
C49: 9
C50: 10
C51: ="※内容の詳細は別紙「"&入力シート!$D$4&"年度 宗像市まちづくり交付金（提案型）交付申請シート」参照" -> ※内容の詳細は別紙「令和9年度 宗像市まちづくり交付金（提案型）交付申請シート」参照

Sheet 申請シート①
A1: 【No.01】 | E1: 地区名 | I1: =入力シート!$D$6&"地区" -> 〇〇〇地区 | O1: 部会名（団体名）
O2: 交付申請予定年数 | Y2: （ | AA2: 年目）
A4: =入力シート!$D$4&"年度 宗像市まちづくり交付金（提案型）交付申請シート" -> 令和9年度 宗像市まちづくり交付金（提案型）交付申請シート
B6: １．事業内容
B7: 事業名
B8: 事業概要
B12: 目的 （ゴールを明記）
B15: 実施根拠 （定量・定性） | E15: 資料
B18: 誰が （人員・ 実施体制）
B21: 誰に （周知・募集方法も明記）
B24: 何を
B27: どうやって
B30: 効果
B34: スケジュール
B38: ２．予算
B39: 歳入 | AB39: （単位：円）
B40: 費目 | F40: 歳入予算額 | K40: 積算内訳
B41: 宗像市提案型まちづくり交付金 | K41: 宗像市提案型まちづくり交付金
E47: 計 | F47: =SUM(F41:J46) -> 0
B48: 歳出 | AB48: （単位：円）
B49: 費目 | F49: 歳出予算額 | K49: 交付金充当額 | P49: 積算内訳 | AE49: ※費目リスト
AF50: 費目 | AL50: 内容
AF51: 人件費 | AL51: コミュニティ協議会事務員人件費
AF52: 報酬 | AL52: 講師謝金、ボランティア報酬 等
AF53: 費用弁償
AF54: 消耗品費 | AL54: 単価１万円（税込）未満
AF55: 燃料費 | AL55: ガソリン代 等
AF56: 印刷製本費 | AL56: コピー代 等
AF57: 役務費 | AL57: 郵送代、手数料、通信料、保険料 等
AF58: 委託料
AF59: 使用料及び賃借料 | AL59: 施設使用料 等
AF60: 備品購入費 | AL60: 単価１万円（税込）以上
F62: =SUM(F50:J61) -> 0 | K62: =SUM(K50:O61) -> 0
E63: 計 | P63: ←申請額

Sheet 申請シート②
A1: 【No.02】 | E1: 地区名 | I1: =入力シート!$D$6&"地区" -> 〇〇〇地区 | O1: 部会名（団体名）
O2: 交付申請予定年数 | Y2: （ | AA2: 年目）
A4: =入力シート!$D$4&"年度 宗像市まちづくり交付金（提案型）交付申請シート" -> 令和9年度 宗像市まちづくり交付金（提案型）交付申請シート
B6: １．事業内容
B7: 事業名
B8: 事業概要
B12: 目的 （ゴールを明記）
B15: 実施根拠 （定量・定性） | E15: 資料
B18: 誰が （人員・ 実施体制）
B21: 誰に （周知・募集方法も明記）
B24: 何を
B27: どうやって
B30: 効果
B34: スケジュール
B38: ２．予算
B39: 歳入 | AB39: （単位：円）
B40: 費目 | F40: 歳入予算額 | K40: 積算内訳
B41: 宗像市提案型まちづくり交付金 | K41: 宗像市提案型まちづくり交付金
E47: 計 | F47: =SUM(F41:J46) -> 0
B48: 歳出 | AB48: （単位：円）
B49: 費目 | F49: 歳出予算額 | K49: 交付金充当額 | P49: 積算内訳 | AE49: ※費目リスト
AF50: 費目 | AL50: 内容
AF51: 人件費 | AL51: コミュニティ協議会事務員人件費
AF52: 報酬 | AL52: 講師謝金、ボランティア報酬 等
AF53: 費用弁償
AF54: 消耗品費 | AL54: 単価１万円（税込）未満
AF55: 燃料費 | AL55: ガソリン代 等
AF56: 印刷製本費 | AL56: コピー代 等
AF57: 役務費 | AL57: 郵送代、手数料、通信料、保険料 等
AF58: 委託料
AF59: 使用料及び賃借料 | AL59: 施設使用料 等
AF60: 備品購入費 | AL60: 単価１万円（税込）以上
F62: =SUM(F50:J61) -> 0 | K62: =SUM(K50:O61) -> 0
E63: 計 | P63: ←申請額
